BEGIN:VCALENDAR
VERSION:2.0
PRODID:-//Clifton Public Library - ECPv6.15.20//NONSGML v1.0//EN
CALSCALE:GREGORIAN
METHOD:PUBLISH
X-ORIGINAL-URL:http://clifton.lib.nckls.org
X-WR-CALDESC:Events for Clifton Public Library
REFRESH-INTERVAL;VALUE=DURATION:PT1H
X-Robots-Tag:noindex
X-PUBLISHED-TTL:PT1H
BEGIN:VTIMEZONE
TZID:America/Chicago
BEGIN:DAYLIGHT
TZOFFSETFROM:-0600
TZOFFSETTO:-0500
TZNAME:CDT
DTSTART:20250309T080000
END:DAYLIGHT
BEGIN:STANDARD
TZOFFSETFROM:-0500
TZOFFSETTO:-0600
TZNAME:CST
DTSTART:20251102T070000
END:STANDARD
BEGIN:DAYLIGHT
TZOFFSETFROM:-0600
TZOFFSETTO:-0500
TZNAME:CDT
DTSTART:20260308T080000
END:DAYLIGHT
BEGIN:STANDARD
TZOFFSETFROM:-0500
TZOFFSETTO:-0600
TZNAME:CST
DTSTART:20261101T070000
END:STANDARD
BEGIN:DAYLIGHT
TZOFFSETFROM:-0600
TZOFFSETTO:-0500
TZNAME:CDT
DTSTART:20270314T080000
END:DAYLIGHT
BEGIN:STANDARD
TZOFFSETFROM:-0500
TZOFFSETTO:-0600
TZNAME:CST
DTSTART:20271107T070000
END:STANDARD
END:VTIMEZONE
BEGIN:VEVENT
DTSTART;TZID=America/Chicago:20260213T103000
DTEND;TZID=America/Chicago:20260213T231500
DTSTAMP:20260419T153326
CREATED:20251015T214021Z
LAST-MODIFIED:20260408T184702Z
UID:10000467-1770978600-1771024500@clifton.lib.nckls.org
SUMMARY:Early Eagle Storytime
DESCRIPTION:Story hour with Mrs. Zab. Educational time consisting of stories\, songs\, and crafts.
URL:http://clifton.lib.nckls.org/event/early-eagle-storytime/2026-02-13/
LOCATION:Clifton Public Library\, 104 East Parallel PO Box J\, Clifton\, KS\, 66937\, United States
CATEGORIES:Early Eagle Storytime
ATTACH;FMTTYPE=image/webp:http://clifton.lib.nckls.org/wp-content/uploads/sites/41/2026/02/CliftonST2026.webp
END:VEVENT
BEGIN:VEVENT
DTSTART;TZID=America/Chicago:20260220T103000
DTEND;TZID=America/Chicago:20260220T231500
DTSTAMP:20260419T153326
CREATED:20251015T214021Z
LAST-MODIFIED:20260408T184702Z
UID:10000468-1771583400-1771629300@clifton.lib.nckls.org
SUMMARY:Early Eagle Storytime
DESCRIPTION:Story hour with Mrs. Zab. Educational time consisting of stories\, songs\, and crafts.
URL:http://clifton.lib.nckls.org/event/early-eagle-storytime/2026-02-20/
LOCATION:Clifton Public Library\, 104 East Parallel PO Box J\, Clifton\, KS\, 66937\, United States
CATEGORIES:Early Eagle Storytime
ATTACH;FMTTYPE=image/webp:http://clifton.lib.nckls.org/wp-content/uploads/sites/41/2026/02/CliftonST2026.webp
END:VEVENT
BEGIN:VEVENT
DTSTART;TZID=America/Chicago:20260227T103000
DTEND;TZID=America/Chicago:20260227T231500
DTSTAMP:20260419T153326
CREATED:20251015T214021Z
LAST-MODIFIED:20260408T184702Z
UID:10000056-1772188200-1772234100@clifton.lib.nckls.org
SUMMARY:Early Eagle Storytime
DESCRIPTION:Story hour with Mrs. Zab. Educational time consisting of stories\, songs\, and crafts.
URL:http://clifton.lib.nckls.org/event/early-eagle-storytime/2026-02-27/
LOCATION:Clifton Public Library\, 104 East Parallel PO Box J\, Clifton\, KS\, 66937\, United States
CATEGORIES:Early Eagle Storytime
ATTACH;FMTTYPE=image/webp:http://clifton.lib.nckls.org/wp-content/uploads/sites/41/2026/02/CliftonST2026.webp
END:VEVENT
BEGIN:VEVENT
DTSTART;TZID=America/Chicago:20260306T103000
DTEND;TZID=America/Chicago:20260306T231500
DTSTAMP:20260419T153326
CREATED:20251015T214021Z
LAST-MODIFIED:20260408T184702Z
UID:10000469-1772793000-1772838900@clifton.lib.nckls.org
SUMMARY:Early Eagle Storytime
DESCRIPTION:Story hour with Mrs. Zab. Educational time consisting of stories\, songs\, and crafts.
URL:http://clifton.lib.nckls.org/event/early-eagle-storytime/2026-03-06/
LOCATION:Clifton Public Library\, 104 East Parallel PO Box J\, Clifton\, KS\, 66937\, United States
CATEGORIES:Early Eagle Storytime
ATTACH;FMTTYPE=image/webp:http://clifton.lib.nckls.org/wp-content/uploads/sites/41/2026/02/CliftonST2026.webp
END:VEVENT
BEGIN:VEVENT
DTSTART;TZID=America/Chicago:20260313T103000
DTEND;TZID=America/Chicago:20260313T231500
DTSTAMP:20260419T153326
CREATED:20251015T214021Z
LAST-MODIFIED:20260408T184702Z
UID:10000057-1773397800-1773443700@clifton.lib.nckls.org
SUMMARY:Early Eagle Storytime
DESCRIPTION:Story hour with Mrs. Zab. Educational time consisting of stories\, songs\, and crafts.
URL:http://clifton.lib.nckls.org/event/early-eagle-storytime/2026-03-13/
LOCATION:Clifton Public Library\, 104 East Parallel PO Box J\, Clifton\, KS\, 66937\, United States
CATEGORIES:Early Eagle Storytime
ATTACH;FMTTYPE=image/webp:http://clifton.lib.nckls.org/wp-content/uploads/sites/41/2026/02/CliftonST2026.webp
END:VEVENT
BEGIN:VEVENT
DTSTART;TZID=America/Chicago:20260320T103000
DTEND;TZID=America/Chicago:20260320T231500
DTSTAMP:20260419T153326
CREATED:20251015T214021Z
LAST-MODIFIED:20260408T184702Z
UID:10000470-1774002600-1774048500@clifton.lib.nckls.org
SUMMARY:Early Eagle Storytime
DESCRIPTION:Story hour with Mrs. Zab. Educational time consisting of stories\, songs\, and crafts.
URL:http://clifton.lib.nckls.org/event/early-eagle-storytime/2026-03-20/
LOCATION:Clifton Public Library\, 104 East Parallel PO Box J\, Clifton\, KS\, 66937\, United States
CATEGORIES:Early Eagle Storytime
ATTACH;FMTTYPE=image/webp:http://clifton.lib.nckls.org/wp-content/uploads/sites/41/2026/02/CliftonST2026.webp
END:VEVENT
BEGIN:VEVENT
DTSTART;TZID=America/Chicago:20260327T103000
DTEND;TZID=America/Chicago:20260327T231500
DTSTAMP:20260419T153326
CREATED:20251015T214021Z
LAST-MODIFIED:20260408T184702Z
UID:10000058-1774607400-1774653300@clifton.lib.nckls.org
SUMMARY:Early Eagle Storytime
DESCRIPTION:Story hour with Mrs. Zab. Educational time consisting of stories\, songs\, and crafts.
URL:http://clifton.lib.nckls.org/event/early-eagle-storytime/2026-03-27/
LOCATION:Clifton Public Library\, 104 East Parallel PO Box J\, Clifton\, KS\, 66937\, United States
CATEGORIES:Early Eagle Storytime
ATTACH;FMTTYPE=image/webp:http://clifton.lib.nckls.org/wp-content/uploads/sites/41/2026/02/CliftonST2026.webp
END:VEVENT
BEGIN:VEVENT
DTSTART;TZID=America/Chicago:20260403T103000
DTEND;TZID=America/Chicago:20260403T231500
DTSTAMP:20260419T153326
CREATED:20251015T214021Z
LAST-MODIFIED:20260408T184702Z
UID:10000471-1775212200-1775258100@clifton.lib.nckls.org
SUMMARY:Early Eagle Storytime
DESCRIPTION:Story hour with Mrs. Zab. Educational time consisting of stories\, songs\, and crafts.
URL:http://clifton.lib.nckls.org/event/early-eagle-storytime/2026-04-03/
LOCATION:Clifton Public Library\, 104 East Parallel PO Box J\, Clifton\, KS\, 66937\, United States
CATEGORIES:Early Eagle Storytime
ATTACH;FMTTYPE=image/webp:http://clifton.lib.nckls.org/wp-content/uploads/sites/41/2026/02/CliftonST2026.webp
END:VEVENT
BEGIN:VEVENT
DTSTART;TZID=America/Chicago:20260410T103000
DTEND;TZID=America/Chicago:20260410T231500
DTSTAMP:20260419T153326
CREATED:20251015T214021Z
LAST-MODIFIED:20260408T184702Z
UID:10000059-1775817000-1775862900@clifton.lib.nckls.org
SUMMARY:Early Eagle Storytime
DESCRIPTION:Story hour with Mrs. Zab. Educational time consisting of stories\, songs\, and crafts.
URL:http://clifton.lib.nckls.org/event/early-eagle-storytime/2026-04-10/
LOCATION:Clifton Public Library\, 104 East Parallel PO Box J\, Clifton\, KS\, 66937\, United States
CATEGORIES:Early Eagle Storytime
ATTACH;FMTTYPE=image/webp:http://clifton.lib.nckls.org/wp-content/uploads/sites/41/2026/02/CliftonST2026.webp
END:VEVENT
BEGIN:VEVENT
DTSTART;TZID=America/Chicago:20260424T103000
DTEND;TZID=America/Chicago:20260424T231500
DTSTAMP:20260419T153326
CREATED:20251015T214021Z
LAST-MODIFIED:20260408T184702Z
UID:10000060-1777026600-1777072500@clifton.lib.nckls.org
SUMMARY:Early Eagle Storytime
DESCRIPTION:Story hour with Mrs. Zab. Educational time consisting of stories\, songs\, and crafts.
URL:http://clifton.lib.nckls.org/event/early-eagle-storytime/2026-04-24/
LOCATION:Clifton Public Library\, 104 East Parallel PO Box J\, Clifton\, KS\, 66937\, United States
CATEGORIES:Early Eagle Storytime
ATTACH;FMTTYPE=image/webp:http://clifton.lib.nckls.org/wp-content/uploads/sites/41/2026/02/CliftonST2026.webp
END:VEVENT
BEGIN:VEVENT
DTSTART;TZID=America/Chicago:20260501T103000
DTEND;TZID=America/Chicago:20260501T231500
DTSTAMP:20260419T153326
CREATED:20260408T184501Z
LAST-MODIFIED:20260408T184502Z
UID:10000061-1777631400-1777677300@clifton.lib.nckls.org
SUMMARY:Early Eagle Storytime
DESCRIPTION:Story hour with Mrs. Zab. Educational time consisting of stories\, songs\, and crafts.
URL:http://clifton.lib.nckls.org/event/early-eagle-storytime-2/
LOCATION:Clifton Public Library\, 104 East Parallel PO Box J\, Clifton\, KS\, 66937\, United States
CATEGORIES:Early Eagle Storytime
ATTACH;FMTTYPE=image/webp:http://clifton.lib.nckls.org/wp-content/uploads/sites/41/2026/02/CliftonST2026.webp
END:VEVENT
END:VCALENDAR