BEGIN:VCALENDAR
VERSION:2.0
PRODID:-//Clifton Public Library - ECPv6.15.20//NONSGML v1.0//EN
CALSCALE:GREGORIAN
METHOD:PUBLISH
X-WR-CALNAME:Clifton Public Library
X-ORIGINAL-URL:http://clifton.lib.nckls.org
X-WR-CALDESC:Events for Clifton Public Library
REFRESH-INTERVAL;VALUE=DURATION:PT1H
X-Robots-Tag:noindex
X-PUBLISHED-TTL:PT1H
BEGIN:VTIMEZONE
TZID:America/Chicago
BEGIN:DAYLIGHT
TZOFFSETFROM:-0600
TZOFFSETTO:-0500
TZNAME:CDT
DTSTART:20240310T080000
END:DAYLIGHT
BEGIN:STANDARD
TZOFFSETFROM:-0500
TZOFFSETTO:-0600
TZNAME:CST
DTSTART:20241103T070000
END:STANDARD
BEGIN:DAYLIGHT
TZOFFSETFROM:-0600
TZOFFSETTO:-0500
TZNAME:CDT
DTSTART:20250309T080000
END:DAYLIGHT
BEGIN:STANDARD
TZOFFSETFROM:-0500
TZOFFSETTO:-0600
TZNAME:CST
DTSTART:20251102T070000
END:STANDARD
BEGIN:DAYLIGHT
TZOFFSETFROM:-0600
TZOFFSETTO:-0500
TZNAME:CDT
DTSTART:20260308T080000
END:DAYLIGHT
BEGIN:STANDARD
TZOFFSETFROM:-0500
TZOFFSETTO:-0600
TZNAME:CST
DTSTART:20261101T070000
END:STANDARD
BEGIN:DAYLIGHT
TZOFFSETFROM:-0600
TZOFFSETTO:-0500
TZNAME:CDT
DTSTART:20270314T080000
END:DAYLIGHT
BEGIN:STANDARD
TZOFFSETFROM:-0500
TZOFFSETTO:-0600
TZNAME:CST
DTSTART:20271107T070000
END:STANDARD
END:VTIMEZONE
BEGIN:VEVENT
DTSTART;TZID=America/Chicago:20260130T103000
DTEND;TZID=America/Chicago:20260130T231500
DTSTAMP:20260419T212956
CREATED:20251015T214021Z
LAST-MODIFIED:20260408T184702Z
UID:10000460-1769769000-1769814900@clifton.lib.nckls.org
SUMMARY:Early Eagle Storytime
DESCRIPTION:Story hour with Mrs. Zab. Educational time consisting of stories\, songs\, and crafts.
URL:http://clifton.lib.nckls.org/event/early-eagle-storytime/2026-01-30/
LOCATION:Clifton Public Library\, 104 East Parallel PO Box J\, Clifton\, KS\, 66937\, United States
CATEGORIES:Early Eagle Storytime
ATTACH;FMTTYPE=image/webp:http://clifton.lib.nckls.org/wp-content/uploads/sites/41/2026/02/CliftonST2026.webp
END:VEVENT
BEGIN:VEVENT
DTSTART;TZID=America/Chicago:20260130T103000
DTEND;TZID=America/Chicago:20260130T111500
DTSTAMP:20260419T212956
CREATED:20251015T184907Z
LAST-MODIFIED:20260408T184958Z
UID:10000035-1769769000-1769771700@clifton.lib.nckls.org
SUMMARY:Library Storytime
DESCRIPTION:Story hour with Rachel. Educational time consisting of stories\, songs\, and crafts.
URL:http://clifton.lib.nckls.org/event/storytimes/2026-01-30/
LOCATION:Clifton Public Library\, 104 East Parallel PO Box J\, Clifton\, KS\, 66937\, United States
CATEGORIES:Library Storytimes During School Year
ATTACH;FMTTYPE=image/webp:http://clifton.lib.nckls.org/wp-content/uploads/sites/41/2025/03/Screenshot-2025-03-10-155328.webp
END:VEVENT
BEGIN:VEVENT
DTSTART;TZID=America/Chicago:20260123T103000
DTEND;TZID=America/Chicago:20260123T231500
DTSTAMP:20260419T212956
CREATED:20251015T214021Z
LAST-MODIFIED:20260408T184702Z
UID:10000052-1769164200-1769210100@clifton.lib.nckls.org
SUMMARY:Early Eagle Storytime
DESCRIPTION:Story hour with Mrs. Zab. Educational time consisting of stories\, songs\, and crafts.
URL:http://clifton.lib.nckls.org/event/early-eagle-storytime/2026-01-23/
LOCATION:Clifton Public Library\, 104 East Parallel PO Box J\, Clifton\, KS\, 66937\, United States
CATEGORIES:Early Eagle Storytime
ATTACH;FMTTYPE=image/webp:http://clifton.lib.nckls.org/wp-content/uploads/sites/41/2026/02/CliftonST2026.webp
END:VEVENT
BEGIN:VEVENT
DTSTART;TZID=America/Chicago:20260123T103000
DTEND;TZID=America/Chicago:20260123T111500
DTSTAMP:20260419T212956
CREATED:20251015T184907Z
LAST-MODIFIED:20260408T184958Z
UID:10000473-1769164200-1769166900@clifton.lib.nckls.org
SUMMARY:Library Storytime
DESCRIPTION:Story hour with Rachel. Educational time consisting of stories\, songs\, and crafts.
URL:http://clifton.lib.nckls.org/event/storytimes/2026-01-23/
LOCATION:Clifton Public Library\, 104 East Parallel PO Box J\, Clifton\, KS\, 66937\, United States
CATEGORIES:Library Storytimes During School Year
ATTACH;FMTTYPE=image/webp:http://clifton.lib.nckls.org/wp-content/uploads/sites/41/2025/03/Screenshot-2025-03-10-155328.webp
END:VEVENT
BEGIN:VEVENT
DTSTART;TZID=America/Chicago:20260119T170000
DTEND;TZID=America/Chicago:20260119T180000
DTSTAMP:20260419T212956
CREATED:20251024T203619Z
LAST-MODIFIED:20260115T163542Z
UID:10000435-1768842000-1768845600@clifton.lib.nckls.org
SUMMARY:Library Board Meeting
DESCRIPTION:Meeting of the Clifton Public Library Board. The Clifton Library Board meets every third\nMonday of the month at 5:00 pm at the library. All of the board meetings are open to the public.
URL:http://clifton.lib.nckls.org/event/library-board-meeting-2/2026-01-19/
LOCATION:Clifton Public Library\, 104 East Parallel PO Box J\, Clifton\, KS\, 66937\, United States
CATEGORIES:Library Board Meetings
ATTACH;FMTTYPE=image/webp:http://clifton.lib.nckls.org/wp-content/uploads/sites/41/2025/03/Library-board-meeting-768x432-1.webp
END:VEVENT
BEGIN:VEVENT
DTSTART;TZID=America/Chicago:20260116T103000
DTEND;TZID=America/Chicago:20260116T231500
DTSTAMP:20260419T212956
CREATED:20251015T214021Z
LAST-MODIFIED:20260408T184702Z
UID:10000451-1768559400-1768605300@clifton.lib.nckls.org
SUMMARY:Early Eagle Storytime
DESCRIPTION:Story hour with Mrs. Zab. Educational time consisting of stories\, songs\, and crafts.
URL:http://clifton.lib.nckls.org/event/early-eagle-storytime/2026-01-16/
LOCATION:Clifton Public Library\, 104 East Parallel PO Box J\, Clifton\, KS\, 66937\, United States
CATEGORIES:Early Eagle Storytime
ATTACH;FMTTYPE=image/webp:http://clifton.lib.nckls.org/wp-content/uploads/sites/41/2026/02/CliftonST2026.webp
END:VEVENT
BEGIN:VEVENT
DTSTART;TZID=America/Chicago:20260116T103000
DTEND;TZID=America/Chicago:20260116T111500
DTSTAMP:20260419T212956
CREATED:20251015T184907Z
LAST-MODIFIED:20260408T184958Z
UID:10000034-1768559400-1768562100@clifton.lib.nckls.org
SUMMARY:Library Storytime
DESCRIPTION:Story hour with Rachel. Educational time consisting of stories\, songs\, and crafts.
URL:http://clifton.lib.nckls.org/event/storytimes/2026-01-16/
LOCATION:Clifton Public Library\, 104 East Parallel PO Box J\, Clifton\, KS\, 66937\, United States
CATEGORIES:Library Storytimes During School Year
ATTACH;FMTTYPE=image/webp:http://clifton.lib.nckls.org/wp-content/uploads/sites/41/2025/03/Screenshot-2025-03-10-155328.webp
END:VEVENT
BEGIN:VEVENT
DTSTART;TZID=America/Chicago:20260109T103000
DTEND;TZID=America/Chicago:20260109T231500
DTSTAMP:20260419T212956
CREATED:20251015T214021Z
LAST-MODIFIED:20260408T184702Z
UID:10000050-1767954600-1768000500@clifton.lib.nckls.org
SUMMARY:Early Eagle Storytime
DESCRIPTION:Story hour with Mrs. Zab. Educational time consisting of stories\, songs\, and crafts.
URL:http://clifton.lib.nckls.org/event/early-eagle-storytime/2026-01-09/
LOCATION:Clifton Public Library\, 104 East Parallel PO Box J\, Clifton\, KS\, 66937\, United States
CATEGORIES:Early Eagle Storytime
ATTACH;FMTTYPE=image/webp:http://clifton.lib.nckls.org/wp-content/uploads/sites/41/2026/02/CliftonST2026.webp
END:VEVENT
BEGIN:VEVENT
DTSTART;TZID=America/Chicago:20260109T103000
DTEND;TZID=America/Chicago:20260109T111500
DTSTAMP:20260419T212956
CREATED:20251015T184907Z
LAST-MODIFIED:20260408T184958Z
UID:10000459-1767954600-1767957300@clifton.lib.nckls.org
SUMMARY:Library Storytime
DESCRIPTION:Story hour with Rachel. Educational time consisting of stories\, songs\, and crafts.
URL:http://clifton.lib.nckls.org/event/storytimes/2026-01-09/
LOCATION:Clifton Public Library\, 104 East Parallel PO Box J\, Clifton\, KS\, 66937\, United States
CATEGORIES:Library Storytimes During School Year
ATTACH;FMTTYPE=image/webp:http://clifton.lib.nckls.org/wp-content/uploads/sites/41/2025/03/Screenshot-2025-03-10-155328.webp
END:VEVENT
BEGIN:VEVENT
DTSTART;TZID=America/Chicago:20260102T103000
DTEND;TZID=America/Chicago:20260102T231500
DTSTAMP:20260419T212956
CREATED:20251015T214021Z
LAST-MODIFIED:20260408T184702Z
UID:10000450-1767349800-1767395700@clifton.lib.nckls.org
SUMMARY:Early Eagle Storytime
DESCRIPTION:Story hour with Mrs. Zab. Educational time consisting of stories\, songs\, and crafts.
URL:http://clifton.lib.nckls.org/event/early-eagle-storytime/2026-01-02/
LOCATION:Clifton Public Library\, 104 East Parallel PO Box J\, Clifton\, KS\, 66937\, United States
CATEGORIES:Early Eagle Storytime
ATTACH;FMTTYPE=image/webp:http://clifton.lib.nckls.org/wp-content/uploads/sites/41/2026/02/CliftonST2026.webp
END:VEVENT
BEGIN:VEVENT
DTSTART;TZID=America/Chicago:20260102T103000
DTEND;TZID=America/Chicago:20260102T111500
DTSTAMP:20260419T212956
CREATED:20251015T184907Z
LAST-MODIFIED:20260408T184958Z
UID:10000458-1767349800-1767352500@clifton.lib.nckls.org
SUMMARY:Library Storytime
DESCRIPTION:Story hour with Rachel. Educational time consisting of stories\, songs\, and crafts.
URL:http://clifton.lib.nckls.org/event/storytimes/2026-01-02/
LOCATION:Clifton Public Library\, 104 East Parallel PO Box J\, Clifton\, KS\, 66937\, United States
CATEGORIES:Library Storytimes During School Year
ATTACH;FMTTYPE=image/webp:http://clifton.lib.nckls.org/wp-content/uploads/sites/41/2025/03/Screenshot-2025-03-10-155328.webp
END:VEVENT
BEGIN:VEVENT
DTSTART;TZID=America/Chicago:20251226T103000
DTEND;TZID=America/Chicago:20251226T231500
DTSTAMP:20260419T212956
CREATED:20251015T214021Z
LAST-MODIFIED:20260408T184702Z
UID:10000449-1766745000-1766790900@clifton.lib.nckls.org
SUMMARY:Early Eagle Storytime
DESCRIPTION:Story hour with Mrs. Zab. Educational time consisting of stories\, songs\, and crafts.
URL:http://clifton.lib.nckls.org/event/early-eagle-storytime/2025-12-26/
LOCATION:Clifton Public Library\, 104 East Parallel PO Box J\, Clifton\, KS\, 66937\, United States
CATEGORIES:Early Eagle Storytime
ATTACH;FMTTYPE=image/webp:http://clifton.lib.nckls.org/wp-content/uploads/sites/41/2026/02/CliftonST2026.webp
END:VEVENT
BEGIN:VEVENT
DTSTART;TZID=America/Chicago:20251226T103000
DTEND;TZID=America/Chicago:20251226T111500
DTSTAMP:20260419T212956
CREATED:20251015T184907Z
LAST-MODIFIED:20260408T184958Z
UID:10000457-1766745000-1766747700@clifton.lib.nckls.org
SUMMARY:Library Storytime
DESCRIPTION:Story hour with Rachel. Educational time consisting of stories\, songs\, and crafts.
URL:http://clifton.lib.nckls.org/event/storytimes/2025-12-26/
LOCATION:Clifton Public Library\, 104 East Parallel PO Box J\, Clifton\, KS\, 66937\, United States
CATEGORIES:Library Storytimes During School Year
ATTACH;FMTTYPE=image/webp:http://clifton.lib.nckls.org/wp-content/uploads/sites/41/2025/03/Screenshot-2025-03-10-155328.webp
END:VEVENT
BEGIN:VEVENT
DTSTART;TZID=America/Chicago:20251219T103000
DTEND;TZID=America/Chicago:20251219T231500
DTSTAMP:20260419T212956
CREATED:20251015T214021Z
LAST-MODIFIED:20260408T184702Z
UID:10000448-1766140200-1766186100@clifton.lib.nckls.org
SUMMARY:Early Eagle Storytime
DESCRIPTION:Story hour with Mrs. Zab. Educational time consisting of stories\, songs\, and crafts.
URL:http://clifton.lib.nckls.org/event/early-eagle-storytime/2025-12-19/
LOCATION:Clifton Public Library\, 104 East Parallel PO Box J\, Clifton\, KS\, 66937\, United States
CATEGORIES:Early Eagle Storytime
ATTACH;FMTTYPE=image/webp:http://clifton.lib.nckls.org/wp-content/uploads/sites/41/2026/02/CliftonST2026.webp
END:VEVENT
BEGIN:VEVENT
DTSTART;TZID=America/Chicago:20251219T103000
DTEND;TZID=America/Chicago:20251219T111500
DTSTAMP:20260419T212956
CREATED:20251015T184907Z
LAST-MODIFIED:20260408T184958Z
UID:10000033-1766140200-1766142900@clifton.lib.nckls.org
SUMMARY:Library Storytime
DESCRIPTION:Story hour with Rachel. Educational time consisting of stories\, songs\, and crafts.
URL:http://clifton.lib.nckls.org/event/storytimes/2025-12-19/
LOCATION:Clifton Public Library\, 104 East Parallel PO Box J\, Clifton\, KS\, 66937\, United States
CATEGORIES:Library Storytimes During School Year
ATTACH;FMTTYPE=image/webp:http://clifton.lib.nckls.org/wp-content/uploads/sites/41/2025/03/Screenshot-2025-03-10-155328.webp
END:VEVENT
BEGIN:VEVENT
DTSTART;TZID=America/Chicago:20251215T170000
DTEND;TZID=America/Chicago:20251215T180000
DTSTAMP:20260419T212956
CREATED:20251024T203619Z
LAST-MODIFIED:20260115T163542Z
UID:10000434-1765818000-1765821600@clifton.lib.nckls.org
SUMMARY:Library Board Meeting
DESCRIPTION:Meeting of the Clifton Public Library Board. The Clifton Library Board meets every third\nMonday of the month at 5:00 pm at the library. All of the board meetings are open to the public.
URL:http://clifton.lib.nckls.org/event/library-board-meeting-2/2025-12-15/
LOCATION:Clifton Public Library\, 104 East Parallel PO Box J\, Clifton\, KS\, 66937\, United States
CATEGORIES:Library Board Meetings
ATTACH;FMTTYPE=image/webp:http://clifton.lib.nckls.org/wp-content/uploads/sites/41/2025/03/Library-board-meeting-768x432-1.webp
END:VEVENT
BEGIN:VEVENT
DTSTART;TZID=America/Chicago:20251212T103000
DTEND;TZID=America/Chicago:20251212T231500
DTSTAMP:20260419T212956
CREATED:20251015T214021Z
LAST-MODIFIED:20260408T184702Z
UID:10000047-1765535400-1765581300@clifton.lib.nckls.org
SUMMARY:Early Eagle Storytime
DESCRIPTION:Story hour with Mrs. Zab. Educational time consisting of stories\, songs\, and crafts.
URL:http://clifton.lib.nckls.org/event/early-eagle-storytime/2025-12-12/
LOCATION:Clifton Public Library\, 104 East Parallel PO Box J\, Clifton\, KS\, 66937\, United States
CATEGORIES:Early Eagle Storytime
ATTACH;FMTTYPE=image/webp:http://clifton.lib.nckls.org/wp-content/uploads/sites/41/2026/02/CliftonST2026.webp
END:VEVENT
BEGIN:VEVENT
DTSTART;TZID=America/Chicago:20251212T103000
DTEND;TZID=America/Chicago:20251212T111500
DTSTAMP:20260419T212956
CREATED:20251015T184907Z
LAST-MODIFIED:20260408T184958Z
UID:10000456-1765535400-1765538100@clifton.lib.nckls.org
SUMMARY:Library Storytime
DESCRIPTION:Story hour with Rachel. Educational time consisting of stories\, songs\, and crafts.
URL:http://clifton.lib.nckls.org/event/storytimes/2025-12-12/
LOCATION:Clifton Public Library\, 104 East Parallel PO Box J\, Clifton\, KS\, 66937\, United States
CATEGORIES:Library Storytimes During School Year
ATTACH;FMTTYPE=image/webp:http://clifton.lib.nckls.org/wp-content/uploads/sites/41/2025/03/Screenshot-2025-03-10-155328.webp
END:VEVENT
BEGIN:VEVENT
DTSTART;TZID=America/Chicago:20251205T103000
DTEND;TZID=America/Chicago:20251205T231500
DTSTAMP:20260419T212956
CREATED:20251015T214021Z
LAST-MODIFIED:20260408T184702Z
UID:10000447-1764930600-1764976500@clifton.lib.nckls.org
SUMMARY:Early Eagle Storytime
DESCRIPTION:Story hour with Mrs. Zab. Educational time consisting of stories\, songs\, and crafts.
URL:http://clifton.lib.nckls.org/event/early-eagle-storytime/2025-12-05/
LOCATION:Clifton Public Library\, 104 East Parallel PO Box J\, Clifton\, KS\, 66937\, United States
CATEGORIES:Early Eagle Storytime
ATTACH;FMTTYPE=image/webp:http://clifton.lib.nckls.org/wp-content/uploads/sites/41/2026/02/CliftonST2026.webp
END:VEVENT
BEGIN:VEVENT
DTSTART;TZID=America/Chicago:20251205T103000
DTEND;TZID=America/Chicago:20251205T111500
DTSTAMP:20260419T212956
CREATED:20251015T184907Z
LAST-MODIFIED:20260408T184958Z
UID:10000032-1764930600-1764933300@clifton.lib.nckls.org
SUMMARY:Library Storytime
DESCRIPTION:Story hour with Rachel. Educational time consisting of stories\, songs\, and crafts.
URL:http://clifton.lib.nckls.org/event/storytimes/2025-12-05/
LOCATION:Clifton Public Library\, 104 East Parallel PO Box J\, Clifton\, KS\, 66937\, United States
CATEGORIES:Library Storytimes During School Year
ATTACH;FMTTYPE=image/webp:http://clifton.lib.nckls.org/wp-content/uploads/sites/41/2025/03/Screenshot-2025-03-10-155328.webp
END:VEVENT
BEGIN:VEVENT
DTSTART;TZID=America/Chicago:20251128T103000
DTEND;TZID=America/Chicago:20251128T231500
DTSTAMP:20260419T212956
CREATED:20251015T214021Z
LAST-MODIFIED:20260408T184702Z
UID:10000446-1764325800-1764371700@clifton.lib.nckls.org
SUMMARY:Early Eagle Storytime
DESCRIPTION:Story hour with Mrs. Zab. Educational time consisting of stories\, songs\, and crafts.
URL:http://clifton.lib.nckls.org/event/early-eagle-storytime/2025-11-28/
LOCATION:Clifton Public Library\, 104 East Parallel PO Box J\, Clifton\, KS\, 66937\, United States
CATEGORIES:Early Eagle Storytime
ATTACH;FMTTYPE=image/webp:http://clifton.lib.nckls.org/wp-content/uploads/sites/41/2026/02/CliftonST2026.webp
END:VEVENT
BEGIN:VEVENT
DTSTART;TZID=America/Chicago:20251128T103000
DTEND;TZID=America/Chicago:20251128T111500
DTSTAMP:20260419T212956
CREATED:20251015T184907Z
LAST-MODIFIED:20260408T184958Z
UID:10000455-1764325800-1764328500@clifton.lib.nckls.org
SUMMARY:Library Storytime
DESCRIPTION:Story hour with Rachel. Educational time consisting of stories\, songs\, and crafts.
URL:http://clifton.lib.nckls.org/event/storytimes/2025-11-28/
LOCATION:Clifton Public Library\, 104 East Parallel PO Box J\, Clifton\, KS\, 66937\, United States
CATEGORIES:Library Storytimes During School Year
ATTACH;FMTTYPE=image/webp:http://clifton.lib.nckls.org/wp-content/uploads/sites/41/2025/03/Screenshot-2025-03-10-155328.webp
END:VEVENT
BEGIN:VEVENT
DTSTART;TZID=America/Chicago:20251121T103000
DTEND;TZID=America/Chicago:20251121T231500
DTSTAMP:20260419T212956
CREATED:20251015T214021Z
LAST-MODIFIED:20260408T184702Z
UID:10000045-1763721000-1763766900@clifton.lib.nckls.org
SUMMARY:Early Eagle Storytime
DESCRIPTION:Story hour with Mrs. Zab. Educational time consisting of stories\, songs\, and crafts.
URL:http://clifton.lib.nckls.org/event/early-eagle-storytime/2025-11-21/
LOCATION:Clifton Public Library\, 104 East Parallel PO Box J\, Clifton\, KS\, 66937\, United States
CATEGORIES:Early Eagle Storytime
ATTACH;FMTTYPE=image/webp:http://clifton.lib.nckls.org/wp-content/uploads/sites/41/2026/02/CliftonST2026.webp
END:VEVENT
BEGIN:VEVENT
DTSTART;TZID=America/Chicago:20251121T103000
DTEND;TZID=America/Chicago:20251121T111500
DTSTAMP:20260419T212956
CREATED:20251015T184907Z
LAST-MODIFIED:20260408T184958Z
UID:10000454-1763721000-1763723700@clifton.lib.nckls.org
SUMMARY:Library Storytime
DESCRIPTION:Story hour with Rachel. Educational time consisting of stories\, songs\, and crafts.
URL:http://clifton.lib.nckls.org/event/storytimes/2025-11-21/
LOCATION:Clifton Public Library\, 104 East Parallel PO Box J\, Clifton\, KS\, 66937\, United States
CATEGORIES:Library Storytimes During School Year
ATTACH;FMTTYPE=image/webp:http://clifton.lib.nckls.org/wp-content/uploads/sites/41/2025/03/Screenshot-2025-03-10-155328.webp
END:VEVENT
BEGIN:VEVENT
DTSTART;TZID=America/Chicago:20251117T170000
DTEND;TZID=America/Chicago:20251117T180000
DTSTAMP:20260419T212956
CREATED:20251024T203619Z
LAST-MODIFIED:20260115T163542Z
UID:10000433-1763398800-1763402400@clifton.lib.nckls.org
SUMMARY:Library Board Meeting
DESCRIPTION:Meeting of the Clifton Public Library Board. The Clifton Library Board meets every third\nMonday of the month at 5:00 pm at the library. All of the board meetings are open to the public.
URL:http://clifton.lib.nckls.org/event/library-board-meeting-2/2025-11-17/
LOCATION:Clifton Public Library\, 104 East Parallel PO Box J\, Clifton\, KS\, 66937\, United States
CATEGORIES:Library Board Meetings
ATTACH;FMTTYPE=image/webp:http://clifton.lib.nckls.org/wp-content/uploads/sites/41/2025/03/Library-board-meeting-768x432-1.webp
END:VEVENT
BEGIN:VEVENT
DTSTART;TZID=America/Chicago:20251114T103000
DTEND;TZID=America/Chicago:20251114T111500
DTSTAMP:20260419T212956
CREATED:20251015T184907Z
LAST-MODIFIED:20260408T184958Z
UID:10000031-1763116200-1763118900@clifton.lib.nckls.org
SUMMARY:Library Storytime
DESCRIPTION:Story hour with Rachel. Educational time consisting of stories\, songs\, and crafts.
URL:http://clifton.lib.nckls.org/event/storytimes/2025-11-14/
LOCATION:Clifton Public Library\, 104 East Parallel PO Box J\, Clifton\, KS\, 66937\, United States
CATEGORIES:Library Storytimes During School Year
ATTACH;FMTTYPE=image/webp:http://clifton.lib.nckls.org/wp-content/uploads/sites/41/2025/03/Screenshot-2025-03-10-155328.webp
END:VEVENT
BEGIN:VEVENT
DTSTART;TZID=America/Chicago:20251107T103000
DTEND;TZID=America/Chicago:20251107T231500
DTSTAMP:20260419T212956
CREATED:20251015T214021Z
LAST-MODIFIED:20260408T184702Z
UID:10000044-1762511400-1762557300@clifton.lib.nckls.org
SUMMARY:Early Eagle Storytime
DESCRIPTION:Story hour with Mrs. Zab. Educational time consisting of stories\, songs\, and crafts.
URL:http://clifton.lib.nckls.org/event/early-eagle-storytime/2025-11-07/
LOCATION:Clifton Public Library\, 104 East Parallel PO Box J\, Clifton\, KS\, 66937\, United States
CATEGORIES:Early Eagle Storytime
ATTACH;FMTTYPE=image/webp:http://clifton.lib.nckls.org/wp-content/uploads/sites/41/2026/02/CliftonST2026.webp
END:VEVENT
BEGIN:VEVENT
DTSTART;TZID=America/Chicago:20251107T103000
DTEND;TZID=America/Chicago:20251107T111500
DTSTAMP:20260419T212956
CREATED:20251015T184907Z
LAST-MODIFIED:20260408T184958Z
UID:10000453-1762511400-1762514100@clifton.lib.nckls.org
SUMMARY:Library Storytime
DESCRIPTION:Story hour with Rachel. Educational time consisting of stories\, songs\, and crafts.
URL:http://clifton.lib.nckls.org/event/storytimes/2025-11-07/
LOCATION:Clifton Public Library\, 104 East Parallel PO Box J\, Clifton\, KS\, 66937\, United States
CATEGORIES:Library Storytimes During School Year
ATTACH;FMTTYPE=image/webp:http://clifton.lib.nckls.org/wp-content/uploads/sites/41/2025/03/Screenshot-2025-03-10-155328.webp
END:VEVENT
BEGIN:VEVENT
DTSTART;TZID=America/Chicago:20251031T103000
DTEND;TZID=America/Chicago:20251031T111500
DTSTAMP:20260419T212956
CREATED:20251015T184907Z
LAST-MODIFIED:20260408T184958Z
UID:10000030-1761906600-1761909300@clifton.lib.nckls.org
SUMMARY:Library Storytime
DESCRIPTION:Story hour with Rachel. Educational time consisting of stories\, songs\, and crafts.
URL:http://clifton.lib.nckls.org/event/storytimes/2025-10-31/
LOCATION:Clifton Public Library\, 104 East Parallel PO Box J\, Clifton\, KS\, 66937\, United States
CATEGORIES:Library Storytimes During School Year
ATTACH;FMTTYPE=image/webp:http://clifton.lib.nckls.org/wp-content/uploads/sites/41/2025/03/Screenshot-2025-03-10-155328.webp
END:VEVENT
BEGIN:VEVENT
DTSTART;TZID=America/Chicago:20251031T080000
DTEND;TZID=America/Chicago:20251031T170000
DTSTAMP:20260419T212956
CREATED:20251015T215900Z
LAST-MODIFIED:20260115T163731Z
UID:10000254-1761897600-1761930000@clifton.lib.nckls.org
SUMMARY:Halloween Costume Swap
DESCRIPTION:We decided to keep the costumes up until the end of the month for anyone who needs costumes. Anyone can come in during the library or city hall business hours (Monday through Friday 8 am-12 pm and 1 pm-5 pm and on Saturdays 10 am-1 pm) to pick out a costume. It is completely free; we just ask that people return the costumes\, if possible\, when they are done so they can be used again next year!
URL:http://clifton.lib.nckls.org/event/halloween-costume-swap/2025-10-31/
LOCATION:Clifton Public Library\, 104 East Parallel PO Box J\, Clifton\, KS\, 66937\, United States
CATEGORIES:Halloween Costume Swap
END:VEVENT
END:VCALENDAR